BEGIN:VCALENDAR
VERSION:2.0
PRODID:-//Mölnlycke fotoklubb (MFK) - ECPv6.15.20//NONSGML v1.0//EN
CALSCALE:GREGORIAN
METHOD:PUBLISH
X-WR-CALNAME:Mölnlycke fotoklubb (MFK)
X-ORIGINAL-URL:https://molnlyckefotoklubb.nu
X-WR-CALDESC:Händelser för Mölnlycke fotoklubb (MFK)
REFRESH-INTERVAL;VALUE=DURATION:PT1H
X-Robots-Tag:noindex
X-PUBLISHED-TTL:PT1H
BEGIN:VTIMEZONE
TZID:Europe/Stockholm
BEGIN:DAYLIGHT
TZOFFSETFROM:+0100
TZOFFSETTO:+0200
TZNAME:CEST
DTSTART:20250330T010000
END:DAYLIGHT
BEGIN:STANDARD
TZOFFSETFROM:+0200
TZOFFSETTO:+0100
TZNAME:CET
DTSTART:20251026T010000
END:STANDARD
BEGIN:DAYLIGHT
TZOFFSETFROM:+0100
TZOFFSETTO:+0200
TZNAME:CEST
DTSTART:20260329T010000
END:DAYLIGHT
BEGIN:STANDARD
TZOFFSETFROM:+0200
TZOFFSETTO:+0100
TZNAME:CET
DTSTART:20261025T010000
END:STANDARD
BEGIN:DAYLIGHT
TZOFFSETFROM:+0100
TZOFFSETTO:+0200
TZNAME:CEST
DTSTART:20270328T010000
END:DAYLIGHT
BEGIN:STANDARD
TZOFFSETFROM:+0200
TZOFFSETTO:+0100
TZNAME:CET
DTSTART:20271031T010000
END:STANDARD
END:VTIMEZONE
BEGIN:VEVENT
DTSTART;TZID=Europe/Stockholm:20260420T190000
DTEND;TZID=Europe/Stockholm:20260420T210000
DTSTAMP:20260419T160709
CREATED:20260116T153819Z
LAST-MODIFIED:20260224T162225Z
UID:4220-1776711600-1776718800@molnlyckefotoklubb.nu
SUMMARY:Välkommen till april månads projektgruppsmöte
DESCRIPTION:Medlemmarna i projektgruppen i Mölnlycke fotoklubb träffas för att diskutera sina bilder och dela tips och erfarenheter med varandra. \nVi ses på Zoom!  https://us06web.zoom.us/j/81437952793?pwd=6jKsmxMHfF0pf6do6OLGesQvyRYfFF.1 \nFACEBOOK \nGrupp: https://www.facebook.com/groups/465433682659250 Album: https://www.facebook.com/groups/465433682659250/media/albums \nSluttid är ungefärlig.
URL:https://molnlyckefotoklubb.nu/event/valkommen-till-april-manads-projektgruppsmote/
LOCATION:Zoom
CATEGORIES:Projektgrupp MFK,Zoommöte
END:VEVENT
BEGIN:VEVENT
DTSTART;TZID=Europe/Stockholm:20260423T190000
DTEND;TZID=Europe/Stockholm:20260423T210000
DTSTAMP:20260419T160709
CREATED:20260203T124856Z
LAST-MODIFIED:20260419T102943Z
UID:4300-1776970800-1776978000@molnlyckefotoklubb.nu
SUMMARY:Zoom: Aprilaktivitet "Speglingar & Reflektioner" - Bildvisning
DESCRIPTION:Alla medlemmar är välkomna att vara med via Zoom när vi visar de bilder som tagits till månadens aktivitet. \nTid: 19:00 \nZoom öppnar: 18:45 \nZoomlänk: https://us06web.zoom.us/j/89346048137?pwd=191AjhK0BmdQY0eKCckzQiQ7orNla9.1 \nFacebook-katalog: https://www.facebook.com/media/set/?set=oa.937742815538984&type=3
URL:https://molnlyckefotoklubb.nu/event/zoom-aprilaktivitet-samma-stalle-bildvisning/
END:VEVENT
BEGIN:VEVENT
DTSTART;TZID=Europe/Stockholm:20260506T183000
DTEND;TZID=Europe/Stockholm:20260506T210000
DTSTAMP:20260419T160709
CREATED:20250820T190617Z
LAST-MODIFIED:20260409T183208Z
UID:3985-1778092200-1778101200@molnlyckefotoklubb.nu
SUMMARY:Månadsmöte maj 2026 Mölnlycke fotoklubb
DESCRIPTION:Välkommen till maj månads medlemsmöte för Mölnlycke fotoklubb! \nDenna vår träffas vi i Mölnlycke kulturhus vid våra medlemsmöten. \nMötet börjar 18.30 med mingel och gemensam fika och programmet börjar klockan 19.00. Glöm inte att ta med egen mugg till fikan! \nProgram: \n\nInfo från styrelsen\nFrågor till styrelsen\nVår medlem Helen kommer att berätta om hur ett projekt kan bli en bok och\nom alla de kluriga besluten på vägen. Ni får se exempel på hur fotona har ordnats och kombinerats med varandra och med korta texter.\nDet finns också en färdig fysisk bok vi kan bläddra i.\nTeknisk fototeknik med Ulf A\nNärvarotävling på temat porträtt\n\nVälkomna!
URL:https://molnlyckefotoklubb.nu/event/manadsmote-maj-2026-molnlycke-kulturhus/
LOCATION:Mölnlycke kulturhus\, Biblioteksgatan 2\, Mölnlycke\, Västra Götaland\, 43530\, Sverige
CATEGORIES:Månadsmöte
ORGANIZER;CN="M%C3%B6lnlycke fotoklubb":MAILTO:kontakt@molnlyckefotoklubb.nu
END:VEVENT
BEGIN:VEVENT
DTSTART;TZID=Europe/Stockholm:20260511T190000
DTEND;TZID=Europe/Stockholm:20260511T210000
DTSTAMP:20260419T160709
CREATED:20260116T154219Z
LAST-MODIFIED:20260224T162422Z
UID:4222-1778526000-1778533200@molnlyckefotoklubb.nu
SUMMARY:Välkommen till maj månads projektgruppsmöte
DESCRIPTION:Medlemmarna i projektgruppen i Mölnlycke fotoklubb träffas för att diskutera sina bilder och dela tips och erfarenheter med varandra. \nVi ses på Zoom!    https://us06web.zoom.us/j/81637356026?pwd=rNRxbLpeFI5jYiqZhqgM28jSO2zh5E.1 \nFACEBOOK \nGrupp: https://www.facebook.com/groups/465433682659250 Album: https://www.facebook.com/groups/465433682659250/media/albums \nSluttid är ungefärlig.
URL:https://molnlyckefotoklubb.nu/event/valkommen-till-maj-manads-projektgruppsmote/
LOCATION:Zoom
CATEGORIES:Projektgrupp MFK,Zoommöte
ORGANIZER;CN="M%C3%B6lnlycke fotoklubb":MAILTO:kontakt@molnlyckefotoklubb.nu
END:VEVENT
BEGIN:VEVENT
DTSTART;VALUE=DATE:20260513
DTEND;VALUE=DATE:20260518
DTSTAMP:20260419T160709
CREATED:20251221T204108Z
LAST-MODIFIED:20251221T204108Z
UID:4084-1778630400-1779062399@molnlyckefotoklubb.nu
SUMMARY:Fotoresa till Edinburgh/ Musselburgh
DESCRIPTION:Mölnlycke fotoklubb har fått en inbjudan att besöka Musselburgh camera club utanför Edinburgh i maj 2026 för fotografering samt utbyte. \nMer detaljer kommer att lämnas till de som önskar åka med på en resa dit.
URL:https://molnlyckefotoklubb.nu/event/fotoresa-till-edinburgh-musselburgh/
LOCATION:Musselburgh Camera Club\, Fisherrow Centre\, South street\, Musselburgh\, EH21 6AT\, United Kingdom
CATEGORIES:Fotoresa
ATTACH;FMTTYPE=image/jpeg:https://molnlyckefotoklubb.nu/wp-content/uploads/2025/12/P1100306.jpg
ORGANIZER;CN="M%C3%B6lnlycke fotoklubb":MAILTO:kontakt@molnlyckefotoklubb.nu
END:VEVENT
BEGIN:VEVENT
DTSTART;TZID=Europe/Stockholm:20260526T190000
DTEND;TZID=Europe/Stockholm:20260526T200000
DTSTAMP:20260419T160709
CREATED:20260203T125153Z
LAST-MODIFIED:20260419T105352Z
UID:4302-1779822000-1779825600@molnlyckefotoklubb.nu
SUMMARY:Zoom: Majaktivitet "Hammarkullefestivalen" - Planering
DESCRIPTION:Alla medlemmar är välkomna att vara med via Zoom när vi informerar och planerar inför månadens aktivitet. \nTid: 19:00 \nZoom öppnar: 18:45 \nZoomlänk: https://us06web.zoom.us/j/86932180036?pwd=PwgD8Xh3FuBJxUeqlm4WEMzfh3PHRE.1 \nFacebook-katalog: Återkommer
URL:https://molnlyckefotoklubb.nu/event/zoom-majaktivitet-hammarkullefestivalen-planering/
END:VEVENT
BEGIN:VEVENT
DTSTART;VALUE=DATE:20260530
DTEND;VALUE=DATE:20260531
DTSTAMP:20260419T160709
CREATED:20260203T125314Z
LAST-MODIFIED:20260203T125314Z
UID:4304-1780099200-1780185599@molnlyckefotoklubb.nu
SUMMARY:Majaktivitet "Hammarkullefestivalen" - Träff
DESCRIPTION:Alla medlemmar är välkomna att vara med när vi träffas och genomför månadens aktivitet. \nTid: Återkommer \nPlats: Återkommer \nFacebook-katalog: Återkommer \n 
URL:https://molnlyckefotoklubb.nu/event/majaktivitet-hammarkullefestivalen-traff/
END:VEVENT
BEGIN:VEVENT
DTSTART;TZID=Europe/Stockholm:20260603T180000
DTEND;TZID=Europe/Stockholm:20260603T210000
DTSTAMP:20260419T160709
CREATED:20250820T191046Z
LAST-MODIFIED:20250820T191046Z
UID:3987-1780509600-1780520400@molnlyckefotoklubb.nu
SUMMARY:Månadsmöte och terminsavslutning våren 2026 Mölnlycke fotoklubb
DESCRIPTION:Välkommen till juni månads medlemsmöte för Mölnlycke fotoklubb! \nDenna gång träffas vi på en fin eller intressant plats utomhus. \nExakt tid\, plats och andra praktiska detaljer kommer att beslutas samt informeras om när tillfället närmar sig. Så angivna tider nu är ungefärliga. \nVälkomna!
URL:https://molnlyckefotoklubb.nu/event/manadsmote-och-terminsavslutning-varen-2026-molnlycke-fotoklubb/
CATEGORIES:Månadsmöte
ORGANIZER;CN="M%C3%B6lnlycke fotoklubb":MAILTO:kontakt@molnlyckefotoklubb.nu
END:VEVENT
BEGIN:VEVENT
DTSTART;TZID=Europe/Stockholm:20260610T190000
DTEND;TZID=Europe/Stockholm:20260610T210000
DTSTAMP:20260419T160709
CREATED:20260203T125432Z
LAST-MODIFIED:20260419T104532Z
UID:4306-1781118000-1781125200@molnlyckefotoklubb.nu
SUMMARY:Zoom: Majaktivitet "Hammarkullefestivalen" - Bildvisning
DESCRIPTION:Alla medlemmar är välkomna att vara med via Zoom när vi visar de bilder som tagits till månadens aktivitet. \nTid: 19:00 \nZoom öppnar: 18:45 \nZoomlänk: https://us06web.zoom.us/j/84159807750?pwd=wgMsbXNXjZ78ydha7ne2hhJMPlSQF2.1 \nFacebook-katalog: Återkommer \n 
URL:https://molnlyckefotoklubb.nu/event/zoom-majaktivitet-hammarkullefestivalen-bildvisning/
END:VEVENT
BEGIN:VEVENT
DTSTART;VALUE=DATE:20260926
DTEND;VALUE=DATE:20261018
DTSTAMP:20260419T160709
CREATED:20251220T105344Z
LAST-MODIFIED:20251220T105344Z
UID:4078-1790380800-1792281599@molnlyckefotoklubb.nu
SUMMARY:Fotoutställning i Mölnlycke kulturhus
DESCRIPTION:Fotoutställning i Mölnlycke kulturhus med tema naturreservat. \nUnder tiden den 26/9-17/10\, har vi förmånen att ha en utställning med svartvita bilder från Härryda Kommuns naturreservat i Mölnlycke kulturhus.\nUtställningen är ett komplement till Mölnlycke Kulturhus övergripande tema. Om ni undrar hur många naturreservat det finns i Härryda kommun har Jan A tagit reda på svaret: Bråtaskogen\,  Delsjön\,  Gallhålan\, Hårssjön -Rambo mosse\,  Härskogen\, Klippan\,  Risbohult\,  Rådasjön och Yxsjön. \nMer information kommer när det närmar sig. Nu angivna tider är preliminära.
URL:https://molnlyckefotoklubb.nu/event/fotoutstallning-i-molnlycke-kulturhus/
LOCATION:Mölnlycke kulturhus\, Biblioteksgatan 2\, Mölnlycke\, Västra Götaland\, 43530\, Sverige
CATEGORIES:Utställning
ATTACH;FMTTYPE=image/jpeg:https://molnlyckefotoklubb.nu/wp-content/uploads/2025/12/Klippans-naturreservat-Annika.jpg
ORGANIZER;CN="M%C3%B6lnlycke fotoklubb":MAILTO:kontakt@molnlyckefotoklubb.nu
END:VEVENT
END:VCALENDAR