BEGIN:VCALENDAR
VERSION:2.0
PRODID:-//Mölnlycke fotoklubb (MFK) - ECPv6.15.20//NONSGML v1.0//EN
CALSCALE:GREGORIAN
METHOD:PUBLISH
X-ORIGINAL-URL:https://molnlyckefotoklubb.nu
X-WR-CALDESC:Händelser för Mölnlycke fotoklubb (MFK)
REFRESH-INTERVAL;VALUE=DURATION:PT1H
X-Robots-Tag:noindex
X-PUBLISHED-TTL:PT1H
BEGIN:VTIMEZONE
TZID:Europe/Stockholm
BEGIN:DAYLIGHT
TZOFFSETFROM:+0100
TZOFFSETTO:+0200
TZNAME:CEST
DTSTART:20250330T010000
END:DAYLIGHT
BEGIN:STANDARD
TZOFFSETFROM:+0200
TZOFFSETTO:+0100
TZNAME:CET
DTSTART:20251026T010000
END:STANDARD
BEGIN:DAYLIGHT
TZOFFSETFROM:+0100
TZOFFSETTO:+0200
TZNAME:CEST
DTSTART:20260329T010000
END:DAYLIGHT
BEGIN:STANDARD
TZOFFSETFROM:+0200
TZOFFSETTO:+0100
TZNAME:CET
DTSTART:20261025T010000
END:STANDARD
BEGIN:DAYLIGHT
TZOFFSETFROM:+0100
TZOFFSETTO:+0200
TZNAME:CEST
DTSTART:20270328T010000
END:DAYLIGHT
BEGIN:STANDARD
TZOFFSETFROM:+0200
TZOFFSETTO:+0100
TZNAME:CET
DTSTART:20271031T010000
END:STANDARD
END:VTIMEZONE
BEGIN:VEVENT
DTSTART;TZID=Europe/Stockholm:20260603T180000
DTEND;TZID=Europe/Stockholm:20260603T210000
DTSTAMP:20260422T163528
CREATED:20250820T191046Z
LAST-MODIFIED:20250820T191046Z
UID:3987-1780509600-1780520400@molnlyckefotoklubb.nu
SUMMARY:Månadsmöte och terminsavslutning våren 2026 Mölnlycke fotoklubb
DESCRIPTION:Välkommen till juni månads medlemsmöte för Mölnlycke fotoklubb! \nDenna gång träffas vi på en fin eller intressant plats utomhus. \nExakt tid\, plats och andra praktiska detaljer kommer att beslutas samt informeras om när tillfället närmar sig. Så angivna tider nu är ungefärliga. \nVälkomna!
URL:https://molnlyckefotoklubb.nu/event/manadsmote-och-terminsavslutning-varen-2026-molnlycke-fotoklubb/
CATEGORIES:Månadsmöte
ORGANIZER;CN="M%C3%B6lnlycke fotoklubb":MAILTO:kontakt@molnlyckefotoklubb.nu
END:VEVENT
END:VCALENDAR